BEGIN:VCALENDAR
VERSION:2.0
PRODID:-//Shaker Road School - ECPv6.15.20//NONSGML v1.0//EN
CALSCALE:GREGORIAN
METHOD:PUBLISH
X-WR-CALNAME:Shaker Road School
X-ORIGINAL-URL:https://shakerroadschool.org
X-WR-CALDESC:Events for Shaker Road School
REFRESH-INTERVAL;VALUE=DURATION:PT1H
X-Robots-Tag:noindex
X-PUBLISHED-TTL:PT1H
BEGIN:VTIMEZONE
TZID:America/New_York
BEGIN:DAYLIGHT
TZOFFSETFROM:-0500
TZOFFSETTO:-0400
TZNAME:EDT
DTSTART:20250309T070000
END:DAYLIGHT
BEGIN:STANDARD
TZOFFSETFROM:-0400
TZOFFSETTO:-0500
TZNAME:EST
DTSTART:20251102T060000
END:STANDARD
BEGIN:DAYLIGHT
TZOFFSETFROM:-0500
TZOFFSETTO:-0400
TZNAME:EDT
DTSTART:20260308T070000
END:DAYLIGHT
BEGIN:STANDARD
TZOFFSETFROM:-0400
TZOFFSETTO:-0500
TZNAME:EST
DTSTART:20261101T060000
END:STANDARD
BEGIN:DAYLIGHT
TZOFFSETFROM:-0500
TZOFFSETTO:-0400
TZNAME:EDT
DTSTART:20270314T070000
END:DAYLIGHT
BEGIN:STANDARD
TZOFFSETFROM:-0400
TZOFFSETTO:-0500
TZNAME:EST
DTSTART:20271107T060000
END:STANDARD
END:VTIMEZONE
BEGIN:VEVENT
DTSTART;TZID=America/New_York:20260421T180000
DTEND;TZID=America/New_York:20260421T180000
DTSTAMP:20260421T174046
CREATED:20251029T131109Z
LAST-MODIFIED:20251029T131109Z
UID:35678-1776794400-1776794400@shakerroadschool.org
SUMMARY:Music Recitals
DESCRIPTION:
URL:https://shakerroadschool.org/event/music-recitals-4/
END:VEVENT
BEGIN:VEVENT
DTSTART;VALUE=DATE:20260424
DTEND;VALUE=DATE:20260425
DTSTAMP:20260421T174046
CREATED:20251029T131142Z
LAST-MODIFIED:20251029T131142Z
UID:35680-1776988800-1777075199@shakerroadschool.org
SUMMARY:Teacher Talentless Show
DESCRIPTION:
URL:https://shakerroadschool.org/event/teacher-talentless-show/
END:VEVENT
BEGIN:VEVENT
DTSTART;VALUE=DATE:20260427
DTEND;VALUE=DATE:20260502
DTSTAMP:20260421T174046
CREATED:20251029T131218Z
LAST-MODIFIED:20251029T131218Z
UID:35682-1777248000-1777679999@shakerroadschool.org
SUMMARY:K-8 Vacation Camp\, No School
DESCRIPTION:
URL:https://shakerroadschool.org/event/k-8-vacation-camp-no-school/
END:VEVENT
BEGIN:VEVENT
DTSTART;VALUE=DATE:20260427
DTEND;VALUE=DATE:20260502
DTSTAMP:20260421T174046
CREATED:20251029T131249Z
LAST-MODIFIED:20251029T131249Z
UID:35684-1777248000-1777679999@shakerroadschool.org
SUMMARY:SRS Open for Infant\, Toddler\, Pre-K
DESCRIPTION:
URL:https://shakerroadschool.org/event/srs-open-infant-toddler-pre-k-5/
END:VEVENT
END:VCALENDAR