BEGIN:VCALENDAR
VERSION:2.0
PRODID:-//Shaker Road School - ECPv6.15.20//NONSGML v1.0//EN
CALSCALE:GREGORIAN
METHOD:PUBLISH
X-ORIGINAL-URL:https://shakerroadschool.org
X-WR-CALDESC:Events for Shaker Road School
REFRESH-INTERVAL;VALUE=DURATION:PT1H
X-Robots-Tag:noindex
X-PUBLISHED-TTL:PT1H
BEGIN:VTIMEZONE
TZID:America/New_York
BEGIN:DAYLIGHT
TZOFFSETFROM:-0500
TZOFFSETTO:-0400
TZNAME:EDT
DTSTART:20250309T070000
END:DAYLIGHT
BEGIN:STANDARD
TZOFFSETFROM:-0400
TZOFFSETTO:-0500
TZNAME:EST
DTSTART:20251102T060000
END:STANDARD
BEGIN:DAYLIGHT
TZOFFSETFROM:-0500
TZOFFSETTO:-0400
TZNAME:EDT
DTSTART:20260308T070000
END:DAYLIGHT
BEGIN:STANDARD
TZOFFSETFROM:-0400
TZOFFSETTO:-0500
TZNAME:EST
DTSTART:20261101T060000
END:STANDARD
BEGIN:DAYLIGHT
TZOFFSETFROM:-0500
TZOFFSETTO:-0400
TZNAME:EDT
DTSTART:20270314T070000
END:DAYLIGHT
BEGIN:STANDARD
TZOFFSETFROM:-0400
TZOFFSETTO:-0500
TZNAME:EST
DTSTART:20271107T060000
END:STANDARD
END:VTIMEZONE
BEGIN:VEVENT
DTSTART;TZID=America/New_York:20260316T170000
DTEND;TZID=America/New_York:20260316T183000
DTSTAMP:20260421T191058
CREATED:20251029T130600Z
LAST-MODIFIED:20251029T130600Z
UID:35664-1773680400-1773685800@shakerroadschool.org
SUMMARY:Art Show Opening Night
DESCRIPTION:
URL:https://shakerroadschool.org/event/art-show-opening-night/
END:VEVENT
BEGIN:VEVENT
DTSTART;VALUE=DATE:20260317
DTEND;VALUE=DATE:20260321
DTSTAMP:20260421T191058
CREATED:20251029T130639Z
LAST-MODIFIED:20251029T130639Z
UID:35666-1773705600-1774051199@shakerroadschool.org
SUMMARY:Art Show (school hours)
DESCRIPTION:
URL:https://shakerroadschool.org/event/art-show-school-hours/
END:VEVENT
BEGIN:VEVENT
DTSTART;TZID=America/New_York:20260319T180000
DTEND;TZID=America/New_York:20260319T193000
DTSTAMP:20260421T191058
CREATED:20251029T130728Z
LAST-MODIFIED:20251029T130728Z
UID:35668-1773943200-1773948600@shakerroadschool.org
SUMMARY:K-8 Science Fair
DESCRIPTION:
URL:https://shakerroadschool.org/event/k-8-science-fair/
END:VEVENT
BEGIN:VEVENT
DTSTART;TZID=America/New_York:20260327T150000
DTEND;TZID=America/New_York:20260327T150000
DTSTAMP:20260421T191058
CREATED:20251029T130810Z
LAST-MODIFIED:20251029T130810Z
UID:35670-1774623600-1774623600@shakerroadschool.org
SUMMARY:Dance Recital Rehearsal
DESCRIPTION:
URL:https://shakerroadschool.org/event/dance-recital-rehearsal/
END:VEVENT
BEGIN:VEVENT
DTSTART;TZID=America/New_York:20260328T100000
DTEND;TZID=America/New_York:20260328T100000
DTSTAMP:20260421T191058
CREATED:20251029T130856Z
LAST-MODIFIED:20251029T130856Z
UID:35672-1774692000-1774692000@shakerroadschool.org
SUMMARY:Dance Recital
DESCRIPTION:
URL:https://shakerroadschool.org/event/dance-recital/
END:VEVENT
END:VCALENDAR