BEGIN:VCALENDAR
VERSION:2.0
PRODID:-//Shaker Road School - ECPv6.15.20//NONSGML v1.0//EN
CALSCALE:GREGORIAN
METHOD:PUBLISH
X-WR-CALNAME:Shaker Road School
X-ORIGINAL-URL:https://shakerroadschool.org
X-WR-CALDESC:Events for Shaker Road School
REFRESH-INTERVAL;VALUE=DURATION:PT1H
X-Robots-Tag:noindex
X-PUBLISHED-TTL:PT1H
BEGIN:VTIMEZONE
TZID:America/New_York
BEGIN:DAYLIGHT
TZOFFSETFROM:-0500
TZOFFSETTO:-0400
TZNAME:EDT
DTSTART:20240310T070000
END:DAYLIGHT
BEGIN:STANDARD
TZOFFSETFROM:-0400
TZOFFSETTO:-0500
TZNAME:EST
DTSTART:20241103T060000
END:STANDARD
BEGIN:DAYLIGHT
TZOFFSETFROM:-0500
TZOFFSETTO:-0400
TZNAME:EDT
DTSTART:20250309T070000
END:DAYLIGHT
BEGIN:STANDARD
TZOFFSETFROM:-0400
TZOFFSETTO:-0500
TZNAME:EST
DTSTART:20251102T060000
END:STANDARD
BEGIN:DAYLIGHT
TZOFFSETFROM:-0500
TZOFFSETTO:-0400
TZNAME:EDT
DTSTART:20260308T070000
END:DAYLIGHT
BEGIN:STANDARD
TZOFFSETFROM:-0400
TZOFFSETTO:-0500
TZNAME:EST
DTSTART:20261101T060000
END:STANDARD
BEGIN:DAYLIGHT
TZOFFSETFROM:-0500
TZOFFSETTO:-0400
TZNAME:EDT
DTSTART:20270314T070000
END:DAYLIGHT
BEGIN:STANDARD
TZOFFSETFROM:-0400
TZOFFSETTO:-0500
TZNAME:EST
DTSTART:20271107T060000
END:STANDARD
END:VTIMEZONE
BEGIN:VEVENT
DTSTART;VALUE=DATE:20260223
DTEND;VALUE=DATE:20260228
DTSTAMP:20260421T222849
CREATED:20251028T215942Z
LAST-MODIFIED:20251028T215942Z
UID:35660-1771804800-1772236799@shakerroadschool.org
SUMMARY:SRS Open for Infant\, Toddler\, Pre-K
DESCRIPTION:
URL:https://shakerroadschool.org/event/srs-open-infant-toddler-pre-k-4/
END:VEVENT
BEGIN:VEVENT
DTSTART;VALUE=DATE:20260223
DTEND;VALUE=DATE:20260228
DTSTAMP:20260421T222849
CREATED:20251028T215911Z
LAST-MODIFIED:20251028T215911Z
UID:35658-1771804800-1772236799@shakerroadschool.org
SUMMARY:Winter Break/K-8 Vacation Camp
DESCRIPTION:
URL:https://shakerroadschool.org/event/winter-break-k-8-vacation-camp/
END:VEVENT
BEGIN:VEVENT
DTSTART;TZID=America/New_York:20260219T180000
DTEND;TZID=America/New_York:20260219T180000
DTSTAMP:20260421T222849
CREATED:20251028T215823Z
LAST-MODIFIED:20251028T215823Z
UID:35656-1771524000-1771524000@shakerroadschool.org
SUMMARY:4-5 Drama Production
DESCRIPTION:
URL:https://shakerroadschool.org/event/4-5-drama-production/
END:VEVENT
BEGIN:VEVENT
DTSTART;TZID=America/New_York:20260218T180000
DTEND;TZID=America/New_York:20260218T180000
DTSTAMP:20260421T222849
CREATED:20251028T215749Z
LAST-MODIFIED:20251028T215749Z
UID:35654-1771437600-1771437600@shakerroadschool.org
SUMMARY:1-3 Drama Production
DESCRIPTION:
URL:https://shakerroadschool.org/event/1-3-drama-production/
END:VEVENT
BEGIN:VEVENT
DTSTART;VALUE=DATE:20260214
DTEND;VALUE=DATE:20260215
DTSTAMP:20260421T222849
CREATED:20251028T220011Z
LAST-MODIFIED:20251028T220011Z
UID:35662-1771027200-1771113599@shakerroadschool.org
SUMMARY:PTG Pancake Breakfast
DESCRIPTION:
URL:https://shakerroadschool.org/event/ptg-pancake-breakfast/
END:VEVENT
BEGIN:VEVENT
DTSTART;TZID=America/New_York:20260213T183000
DTEND;TZID=America/New_York:20260213T213000
DTSTAMP:20260421T222849
CREATED:20251028T215420Z
LAST-MODIFIED:20251028T215420Z
UID:35650-1771007400-1771018200@shakerroadschool.org
SUMMARY:Middle School Valentine's Dance
DESCRIPTION:
URL:https://shakerroadschool.org/event/middle-school-valentines-dance/
END:VEVENT
BEGIN:VEVENT
DTSTART;VALUE=DATE:20260213
DTEND;VALUE=DATE:20260214
DTSTAMP:20260421T222849
CREATED:20251028T215455Z
LAST-MODIFIED:20251028T215455Z
UID:35652-1770940800-1771027199@shakerroadschool.org
SUMMARY:Pre-K-4 Celebrations
DESCRIPTION:
URL:https://shakerroadschool.org/event/pre-k-4-celebrations/
END:VEVENT
BEGIN:VEVENT
DTSTART;VALUE=DATE:20260125
DTEND;VALUE=DATE:20260126
DTSTAMP:20260421T222849
CREATED:20251028T215042Z
LAST-MODIFIED:20251028T215325Z
UID:35648-1769299200-1769385599@shakerroadschool.org
SUMMARY:PTG Crafts and Movie Night
DESCRIPTION:
URL:https://shakerroadschool.org/event/ptg-crafts-movie-night/
END:VEVENT
BEGIN:VEVENT
DTSTART;VALUE=DATE:20260119
DTEND;VALUE=DATE:20260120
DTSTAMP:20260421T222849
CREATED:20251028T214944Z
LAST-MODIFIED:20251028T214944Z
UID:35646-1768780800-1768867199@shakerroadschool.org
SUMMARY:Civil Rights Celebration K-8
DESCRIPTION:
URL:https://shakerroadschool.org/event/civil-rights-celebration-k-8/
END:VEVENT
BEGIN:VEVENT
DTSTART;VALUE=DATE:20260108
DTEND;VALUE=DATE:20260109
DTSTAMP:20260421T222849
CREATED:20251028T214908Z
LAST-MODIFIED:20251028T214908Z
UID:35644-1767830400-1767916799@shakerroadschool.org
SUMMARY:K-3 Ski and Snowboard Program Begins
DESCRIPTION:
URL:https://shakerroadschool.org/event/k-3-ski-snowboard-program-begins/
END:VEVENT
BEGIN:VEVENT
DTSTART;VALUE=DATE:20260107
DTEND;VALUE=DATE:20260108
DTSTAMP:20260421T222849
CREATED:20251028T214836Z
LAST-MODIFIED:20251028T214836Z
UID:35642-1767744000-1767830399@shakerroadschool.org
SUMMARY:4-8 Ski and Snowboard Program Begins
DESCRIPTION:
URL:https://shakerroadschool.org/event/4-8-ski-snowboard-program-begins/
END:VEVENT
BEGIN:VEVENT
DTSTART;VALUE=DATE:20260102
DTEND;VALUE=DATE:20260103
DTSTAMP:20260421T222849
CREATED:20251028T214758Z
LAST-MODIFIED:20251028T214758Z
UID:35640-1767312000-1767398399@shakerroadschool.org
SUMMARY:K-8 Vacation Camp
DESCRIPTION:
URL:https://shakerroadschool.org/event/k-8-vacation-camp-3/
END:VEVENT
BEGIN:VEVENT
DTSTART;VALUE=DATE:20260102
DTEND;VALUE=DATE:20260103
DTSTAMP:20260421T222849
CREATED:20251028T214701Z
LAST-MODIFIED:20251028T214701Z
UID:35638-1767312000-1767398399@shakerroadschool.org
SUMMARY:SRS Open for Infant\, Toddler\, Pre-K
DESCRIPTION:
URL:https://shakerroadschool.org/event/srs-open-infant-toddler-pre-k-3/
END:VEVENT
BEGIN:VEVENT
DTSTART;VALUE=DATE:20260101
DTEND;VALUE=DATE:20260102
DTSTAMP:20260421T222849
CREATED:20251028T214625Z
LAST-MODIFIED:20251028T214625Z
UID:35636-1767225600-1767311999@shakerroadschool.org
SUMMARY:SRS Closed
DESCRIPTION:
URL:https://shakerroadschool.org/event/srs-closed-2/
END:VEVENT
BEGIN:VEVENT
DTSTART;VALUE=DATE:20251229
DTEND;VALUE=DATE:20260101
DTSTAMP:20260421T222849
CREATED:20251028T214552Z
LAST-MODIFIED:20251028T214552Z
UID:35634-1766966400-1767225599@shakerroadschool.org
SUMMARY:SRS Open for Infant\, Toddler\, Pre-K
DESCRIPTION:
URL:https://shakerroadschool.org/event/srs-open-infant-toddler-pre-k-2/
END:VEVENT
BEGIN:VEVENT
DTSTART;VALUE=DATE:20251229
DTEND;VALUE=DATE:20260101
DTSTAMP:20260421T222849
CREATED:20251028T214506Z
LAST-MODIFIED:20251028T214506Z
UID:35632-1766966400-1767225599@shakerroadschool.org
SUMMARY:K-8 Vacation Camp
DESCRIPTION:
URL:https://shakerroadschool.org/event/k-8-vacation-camp-2/
END:VEVENT
BEGIN:VEVENT
DTSTART;VALUE=DATE:20251224
DTEND;VALUE=DATE:20251227
DTSTAMP:20260421T222849
CREATED:20251028T212415Z
LAST-MODIFIED:20251028T212415Z
UID:35629-1766534400-1766793599@shakerroadschool.org
SUMMARY:Holiday Break\, SRS Closed
DESCRIPTION:
URL:https://shakerroadschool.org/event/holiday-break-srs-closed/
END:VEVENT
BEGIN:VEVENT
DTSTART;VALUE=DATE:20251222
DTEND;VALUE=DATE:20251224
DTSTAMP:20260421T222849
CREATED:20251028T212339Z
LAST-MODIFIED:20251028T212339Z
UID:35627-1766361600-1766534399@shakerroadschool.org
SUMMARY:K-8 Vacation Camp
DESCRIPTION:
URL:https://shakerroadschool.org/event/k-8-vacation-camp/
END:VEVENT
BEGIN:VEVENT
DTSTART;VALUE=DATE:20251222
DTEND;VALUE=DATE:20251224
DTSTAMP:20260421T222849
CREATED:20251028T212306Z
LAST-MODIFIED:20251028T212306Z
UID:35625-1766361600-1766534399@shakerroadschool.org
SUMMARY:SRS Open for Infant\, Toddler\, Pre-K
DESCRIPTION:
URL:https://shakerroadschool.org/event/srs-open-infant-toddler-pre-k/
END:VEVENT
BEGIN:VEVENT
DTSTART;TZID=America/New_York:20251219T133000
DTEND;TZID=America/New_York:20251219T133000
DTSTAMP:20260421T222849
CREATED:20251028T212144Z
LAST-MODIFIED:20251028T212144Z
UID:35621-1766151000-1766151000@shakerroadschool.org
SUMMARY:K-8 Board Game Bonanza
DESCRIPTION:
URL:https://shakerroadschool.org/event/k-8-board-game-bonanza/
END:VEVENT
BEGIN:VEVENT
DTSTART;TZID=America/New_York:20251219T090000
DTEND;TZID=America/New_York:20251219T090000
DTSTAMP:20260421T222849
CREATED:20251028T212229Z
LAST-MODIFIED:20251028T212229Z
UID:35623-1766134800-1766134800@shakerroadschool.org
SUMMARY:Pre-K-4 Winter Celebrations
DESCRIPTION:
URL:https://shakerroadschool.org/event/pre-k-4-winter-celebrations/
END:VEVENT
BEGIN:VEVENT
DTSTART;TZID=America/New_York:20251211T180000
DTEND;TZID=America/New_York:20251211T180000
DTSTAMP:20260421T222849
CREATED:20251028T212100Z
LAST-MODIFIED:20251028T212100Z
UID:35619-1765476000-1765476000@shakerroadschool.org
SUMMARY:Band and Chorus Concert
DESCRIPTION:
URL:https://shakerroadschool.org/event/band-chorus-concert/
END:VEVENT
BEGIN:VEVENT
DTSTART;VALUE=DATE:20251127
DTEND;VALUE=DATE:20251129
DTSTAMP:20260421T222849
CREATED:20251028T212024Z
LAST-MODIFIED:20251028T212024Z
UID:35617-1764201600-1764374399@shakerroadschool.org
SUMMARY:SRS Closed
DESCRIPTION:
URL:https://shakerroadschool.org/event/srs-closed/
END:VEVENT
BEGIN:VEVENT
DTSTART;VALUE=DATE:20251126
DTEND;VALUE=DATE:20251127
DTSTAMP:20260421T222849
CREATED:20251028T211958Z
LAST-MODIFIED:20251028T211958Z
UID:35615-1764115200-1764201599@shakerroadschool.org
SUMMARY:K-8 No Classes/Vacation Camp Offered
DESCRIPTION:
URL:https://shakerroadschool.org/event/k-8-no-classes-vacation-camp-offered/
END:VEVENT
BEGIN:VEVENT
DTSTART;VALUE=DATE:20251126
DTEND;VALUE=DATE:20251127
DTSTAMP:20260421T222849
CREATED:20251028T211909Z
LAST-MODIFIED:20251028T211909Z
UID:35613-1764115200-1764201599@shakerroadschool.org
SUMMARY:Childcare Offered for Infant\, Toddler\, and Pre-K
DESCRIPTION:
URL:https://shakerroadschool.org/event/childcare-offered-infant-toddler-pre-k/
END:VEVENT
BEGIN:VEVENT
DTSTART;TZID=America/New_York:20251120T190000
DTEND;TZID=America/New_York:20251120T190000
DTSTAMP:20260421T222849
CREATED:20251028T211835Z
LAST-MODIFIED:20251028T211835Z
UID:35611-1763665200-1763665200@shakerroadschool.org
SUMMARY:Music Recitals
DESCRIPTION:
URL:https://shakerroadschool.org/event/music-recitals-2/
END:VEVENT
BEGIN:VEVENT
DTSTART;TZID=America/New_York:20251120T173000
DTEND;TZID=America/New_York:20251120T173000
DTSTAMP:20260421T222849
CREATED:20251028T211522Z
LAST-MODIFIED:20251028T211522Z
UID:35609-1763659800-1763659800@shakerroadschool.org
SUMMARY:Music Recitals
DESCRIPTION:
URL:https://shakerroadschool.org/event/music-recitals/
END:VEVENT
BEGIN:VEVENT
DTSTART;TZID=America/New_York:20251120T160000
DTEND;TZID=America/New_York:20251120T200000
DTSTAMP:20260421T222849
CREATED:20251110T150151Z
LAST-MODIFIED:20251110T150242Z
UID:35746-1763654400-1763668800@shakerroadschool.org
SUMMARY:Panera Fundraiser
DESCRIPTION:In coordination with our evening music recitals\, the Fort Eddy Road Panera is donating 20% of their sales between 4 and 8 p.m. towards the Robert S. Hicks Scholarship Fund. Order and pick up dinner and present a hard or digital copy of this flyer. Online orders placed all day will count towards total sales. Use code FUND4U.
URL:https://shakerroadschool.org/event/panera-fundraiser/
END:VEVENT
BEGIN:VEVENT
DTSTART;VALUE=DATE:20251111
DTEND;VALUE=DATE:20251112
DTSTAMP:20260421T222849
CREATED:20251011T211446Z
LAST-MODIFIED:20251028T211752Z
UID:35607-1762819200-1762905599@shakerroadschool.org
SUMMARY:Veteran's Day\, SRS Closed
DESCRIPTION:
URL:https://shakerroadschool.org/event/veterans-day-srs-closed/
END:VEVENT
BEGIN:VEVENT
DTSTART;VALUE=DATE:20251110
DTEND;VALUE=DATE:20251111
DTSTAMP:20260421T222849
CREATED:20251010T211421Z
LAST-MODIFIED:20251028T211729Z
UID:35605-1762732800-1762819199@shakerroadschool.org
SUMMARY:Veteran's Day Celebrations\, K-8
DESCRIPTION:
URL:https://shakerroadschool.org/event/veterans-day-celebrations-k-8/
END:VEVENT
END:VCALENDAR